BEGIN:VCALENDAR
PRODID:www.recipharm.com
VERSION:2.0
CALSCALE:GREGORIAN
BEGIN:VEVENT
UID:485da372eec9f1f36d19bf7463abb63f
DTSTAMP:20260419T182129Z
SUMMARY:CPHI Japan 2026 – Tokyo
DESCRIPTION:
DTSTART;VALUE=DATE:20260421
LOCATION:CPHI Japan 2026 – Tokyo
END:VEVENT
END:VCALENDAR
