BEGIN:VCALENDAR
PRODID:www.recipharm.com
VERSION:2.0
CALSCALE:GREGORIAN
BEGIN:VEVENT
UID:35038d68a4adfdf5e7b32177fd487164
DTSTAMP:20260419T182655Z
SUMMARY:TIDES USA 2026 – Boston\, USA
DESCRIPTION:Join Recipharm Advanced Bio at TIDES USA to learn how we suppor
 t oligonucleotide and peptide development through scalable\, integrated ma
 nufacturing solutions.
DTSTART;VALUE=DATE:20260511
LOCATION:TIDES USA 2026 - Boston\, USA
END:VEVENT
END:VCALENDAR
